BEGIN:VCALENDAR
VERSION:2.0
PRODID:icalendar-ruby
CALSCALE:GREGORIAN
BEGIN:VEVENT
DTSTAMP:20260420T225332Z
UID:433930b6-6995-4e87-9203-4648fb4aa3b1
DTSTART:20260408T170000Z
DTEND:20260408T190000Z
DESCRIPTION:We are back for our monthly gathering! Join us for an evening o
 f Ruby\, Rails\, and great conversations with the local developer communit
 y.\n\n## Details\n* **When:** Wednesday\, April 8\, 2026  \n* **Time:** 19
 :00 (7:00 PM)  \n* **Where:** [betahaus Hamburg](https://www.betahaus.com/
 hamburg)  \n* **Location:** Eifflerstraße 43\, 22769 Hamburg (Sternschanz
 e)  \n\n## 🎤 Call for Speakers 🎤\nWe are currently **looking for spe
 akers!** Do you have a project you've been working on\, a gem you love\, o
 r a "lesson learned" from your daily work? We welcome:  \n* **Lightning Ta
 lks:** 5–10 minutes  \n* **Full Presentations:** 20–30 minutes  \n\nDo
 n't be shy—the Hamburg Ruby community is a very supportive audience. If 
 you want to present something\, please reach out to the organizers or simp
 ly open an issue on our GitHub repository.\n\n## 🍕 Agenda\n* **19:00:**
  Arrival\, drinks\, and socializing\n* **19:30:** Community News & Announc
 ements\n* **19:45:** Presentations (Open Slots!)\n* **21:00:** More drinks
  and networking\n\nWe look forward to seeing you there! https://onruby.her
 okuapp.com/events/ruby-usergroup-hamburg-april-2026-2498
LOCATION:betahaus | Sternschanze\,Eifflerstraße 43\, 22769 Hamburg
SUMMARY:Ruby Usergroup Hamburg - April 2026
URL;VALUE=URI:https://onruby.herokuapp.com/events/ruby-usergroup-hamburg-ap
 ril-2026-2498
END:VEVENT
END:VCALENDAR
